BEGIN:VCALENDAR
VERSION:2.0
PRODID:-//350 Marin - ECPv5.14.2.1//NONSGML v1.0//EN
CALSCALE:GREGORIAN
METHOD:PUBLISH
X-WR-CALNAME:350 Marin
X-ORIGINAL-URL:https://350marin.org
X-WR-CALDESC:Events for 350 Marin
BEGIN:VTIMEZONE
TZID:America/Los_Angeles
BEGIN:DAYLIGHT
TZOFFSETFROM:-0800
TZOFFSETTO:-0700
TZNAME:PDT
DTSTART:20200308T100000
END:DAYLIGHT
BEGIN:STANDARD
TZOFFSETFROM:-0700
TZOFFSETTO:-0800
TZNAME:PST
DTSTART:20201101T090000
END:STANDARD
END:VTIMEZONE
BEGIN:VEVENT
DTSTART;TZID=America/Los_Angeles:20200327T150000
DTEND;TZID=America/Los_Angeles:20200327T170000
DTSTAMP:20260423T040830
CREATED:20200307T170521Z
LAST-MODIFIED:20200323T231007Z
UID:25206-1585321200-1585328400@350marin.org
SUMMARY:POSTPONED - Stop Funding Climate Chaos: Greenbrae Rally and Protest!
DESCRIPTION:Join 350Marin\, the Sunrise Movement\, the Sierra Club Marin Group and Sustainable Marin on March 27th from 3-5pm for another bank protest\, rally and march in Greenbrae.  We’re going to tell Chase\, Bank of America\, Citi and Wells Fargo to end their massive money pipeline supporting fossil fuel extraction!  Help us let them know that we’re done with them putting their profit line over the survival of our world year after year!    These banks are a key source of financing for continuing fossil fuel use expansion and disruption of the global ecology.  JP Morgan Chase\, for example\, funded more than twice the dollar amount of oil\, gas & coal development worldwide than Exxon did in 2018! \n\n\nWe’ll meet at Niven Park in Greenbrae at 3pm\, at Barry Way and Drake’s Landing Rd. to rally (see map below).  We’ll hear speakers then march to protest at the banks with signs and leaflets.\n  \nDownload the event flier HERE\, or by clicking on its image to the right.  RSVP with the form at the bottom of this page.  We look forward to seeing you in Greenbrae!\n\n\n  \n\n\n  \n\n\nPost to 350BA
URL:https://350marin.org/event/2-28-stop-climate-chaos-2/
LOCATION:Niven Park\, Greenbrae\, Barry Way & Drake's Landing Rd.\, Greenbrae\, CA\, 94904\, United States
CATEGORIES:action,featured
ATTACH;FMTTYPE=image/png:https://350marin.org/wp-content/uploads/2020/03/Stop-Climate-Chaos-3-27-cancel.png
END:VEVENT
END:VCALENDAR