BEGIN:VCALENDAR
VERSION:2.0
PRODID:-//350 Marin - ECPv5.14.2.1//NONSGML v1.0//EN
CALSCALE:GREGORIAN
METHOD:PUBLISH
X-WR-CALNAME:350 Marin
X-ORIGINAL-URL:https://350marin.org
X-WR-CALDESC:Events for 350 Marin
BEGIN:VTIMEZONE
TZID:America/Los_Angeles
BEGIN:DAYLIGHT
TZOFFSETFROM:-0800
TZOFFSETTO:-0700
TZNAME:PDT
DTSTART:20200308T100000
END:DAYLIGHT
BEGIN:STANDARD
TZOFFSETFROM:-0700
TZOFFSETTO:-0800
TZNAME:PST
DTSTART:20201101T090000
END:STANDARD
END:VTIMEZONE
BEGIN:VEVENT
DTSTART;TZID=America/Los_Angeles:20200405T150000
DTEND;TZID=America/Los_Angeles:20200405T173000
DTSTAMP:20260423T022130
CREATED:20200307T180914Z
LAST-MODIFIED:20200323T230921Z
UID:25227-1586098800-1586107800@350marin.org
SUMMARY:POSTPONED - Party for the Planet's Climate!
DESCRIPTION:Mark your calendars right away for:\n\nPARTY FOR THE PLANET’s CLIMATE:  “A BREATH OF FRESH  AIR”  April 5\, 2020\, 3-5:30pm.\n\nYou are invited to come to a special event hosted jointly by 350Marin/350 Bay Area and Sustainable Mill Valley. \n\nIt will take place in downtown Mill Valley at the gorgeous Seager/Gray Gallery\, 108 Throckmorton Ave. \n\n\n\n\n\n\n\n\n\n\n April 5\, 2020\, 3-5:30pm.\n\n\n\n\n\n\n\n\n\n\nComplimentary refreshments.\n\n\n\n\n\n\n\n\n\n\nKey Note Speaker:  Jed Holtzman\, Senior Policy Analyst\, 350 Bay Area. “A Breath of Fresh Air::  How can we reduce air pollution  – our  main culprit in the climate crisis?”\n\nThe three co-hosts will also lay out their actions so we may reach carbon neutrality by 2040.  Then vote with your pocketbook and choose which organization to support with a donation.\n\n\n\n\n\n\n\n\n\n\n\n\nThere will also be time set aside for a chance to gather and discuss how we can do more to clean our air in our area and help slow the Climate Crisis!  \n\nRSVP below to be put on the guest list and receive your formal invite.   Join us! \n\n\n\n\n\n\n\n\n\n\n\n\n\n\n\n\n\n\n\n\n\n\n\n\n\n\n\n\n\n\n\n\n\n\n\n\n\n\n\n\n\n\n\n  \n\n\n\n  \n\n\n  \n\n\nPost to 350BA
URL:https://350marin.org/event/apr5-party-for-planet/
LOCATION:Seager-Gray  Gallery\, 108 Throckmorton Ave\, Mill Valley\, CA\, 94941\, United States
CATEGORIES:community-event,featured
ATTACH;FMTTYPE=image/jpeg:https://350marin.org/wp-content/uploads/2020/03/party-for-planet-cancel.jpg
END:VEVENT
END:VCALENDAR