BEGIN:VCALENDAR
VERSION:2.0
PRODID:-//350 Marin - ECPv5.14.2.1//NONSGML v1.0//EN
CALSCALE:GREGORIAN
METHOD:PUBLISH
X-WR-CALNAME:350 Marin
X-ORIGINAL-URL:https://350marin.org
X-WR-CALDESC:Events for 350 Marin
BEGIN:VTIMEZONE
TZID:America/Los_Angeles
BEGIN:DAYLIGHT
TZOFFSETFROM:-0800
TZOFFSETTO:-0700
TZNAME:PDT
DTSTART:20220313T100000
END:DAYLIGHT
BEGIN:STANDARD
TZOFFSETFROM:-0700
TZOFFSETTO:-0800
TZNAME:PST
DTSTART:20221106T090000
END:STANDARD
END:VTIMEZONE
BEGIN:VEVENT
DTSTART;TZID=America/Los_Angeles:20220201T173000
DTEND;TZID=America/Los_Angeles:20220201T193000
DTSTAMP:20260421T163405
CREATED:20220111T185318Z
LAST-MODIFIED:20220111T185318Z
UID:26092-1643736600-1643743800@350marin.org
SUMMARY:Join Our Feb. 1st 350Marin Steering Committee Meeting!
DESCRIPTION:We’re now actively recruiting for new  350Marin Steering Committee members to help us organize to make climate progress happen in Marin!  If you might be interested in becoming more active in 350 Marin\, sit in on our Steering Committee Zoom Meeting online at 5:30pm on the evening of Tuesday\, February 1st. Please RSVP below for a meeting link\, or contact Ken Jones at meta4ken350@gmail.com for more information. \n \nPost to 350BA
URL:https://350marin.org/event/join-our-feb-1st-350marin-steering-committee-meeting/
LOCATION:online\, CA\, 94945\, United States
CATEGORIES:featured,scmeeting
ATTACH;FMTTYPE=image/png:https://350marin.org/wp-content/uploads/2017/03/F8-PNG-NWB-small.png
END:VEVENT
END:VCALENDAR