BEGIN:VCALENDAR
VERSION:2.0
PRODID:-//350 Marin - ECPv5.14.2.1//NONSGML v1.0//EN
CALSCALE:GREGORIAN
METHOD:PUBLISH
X-WR-CALNAME:350 Marin
X-ORIGINAL-URL:https://350marin.org
X-WR-CALDESC:Events for 350 Marin
BEGIN:VTIMEZONE
TZID:America/Los_Angeles
BEGIN:DAYLIGHT
TZOFFSETFROM:-0800
TZOFFSETTO:-0700
TZNAME:PDT
DTSTART:20200308T100000
END:DAYLIGHT
BEGIN:STANDARD
TZOFFSETFROM:-0700
TZOFFSETTO:-0800
TZNAME:PST
DTSTART:20201101T090000
END:STANDARD
END:VTIMEZONE
BEGIN:VEVENT
DTSTART;TZID=America/Los_Angeles:20200421T190000
DTEND;TZID=America/Los_Angeles:20200421T203000
DTSTAMP:20260423T022257
CREATED:20200410T031847Z
LAST-MODIFIED:20200410T032224Z
UID:25282-1587495600-1587501000@350marin.org
SUMMARY:Join Us for an Online 350Marin Community Conversation
DESCRIPTION:Notice how nicely the sky cleans up when pollution stops and CO2 drops!  Don’t doubt that we can have a thriving economy and beautiful planet at the same time. \n350Marin would like to invite you to come together on Zoom for the first in a series of online Community Conversations.  The first will take place during Earth Week on April 21st\, from 7 to 8:30pm.  It’ll be a facilitated open forum conversation around the current experiences we are all having with Covid-19\,  and how it appears to be affecting climate change.  We encourage you to bring your best thoughts about how you have felt during this pandemic and how it has been shaping your feelings\, ideas and your sense of the future. All are welcome!   If you’re interested in joining us\, please RSVP below and we’ll send an invite with the Zoom link and any other info you’ll need.  We look forward to seeing you online! \n \nPost to 350BA
URL:https://350marin.org/event/join-us-for-an-online-350marin-community-conversation/
LOCATION:online\, CA\, 94945\, United States
CATEGORIES:community-event,featured
ATTACH;FMTTYPE=image/jpeg:https://350marin.org/wp-content/uploads/2020/04/cloud-sky-climate-climate-change-atmosphere-crystals.jpg
END:VEVENT
END:VCALENDAR