BEGIN:VCALENDAR
VERSION:2.0
PRODID:-//350 Marin - ECPv5.14.2.1//NONSGML v1.0//EN
CALSCALE:GREGORIAN
METHOD:PUBLISH
X-WR-CALNAME:350 Marin
X-ORIGINAL-URL:https://350marin.org
X-WR-CALDESC:Events for 350 Marin
BEGIN:VTIMEZONE
TZID:America/Los_Angeles
BEGIN:DAYLIGHT
TZOFFSETFROM:-0800
TZOFFSETTO:-0700
TZNAME:PDT
DTSTART:20250309T100000
END:DAYLIGHT
BEGIN:STANDARD
TZOFFSETFROM:-0700
TZOFFSETTO:-0800
TZNAME:PST
DTSTART:20251102T090000
END:STANDARD
END:VTIMEZONE
BEGIN:VEVENT
DTSTART;TZID=America/Los_Angeles:20250323T110000
DTEND;TZID=America/Los_Angeles:20250323T123000
DTSTAMP:20260419T110746
CREATED:20250313T052935Z
LAST-MODIFIED:20250313T052935Z
UID:28183-1742727600-1742733000@350marin.org
SUMMARY:March 16\, 23\, & 30 from 11-12:30\, Sunday Protests for Climate\, DEI and Democracy!
DESCRIPTION:Fight the  recall of two progressive\, climate champions in Fairfax! This recall would cost the Town of Fairfax $60\,000! Support the democratically elected women who believe in climate science! Join us on Sundays\, 11-12:30 at Broadway & Bolinas\, downtown Fairfax.\nThe Mayor and Vice Mayor are under attack by conservative community members (and two newly elected Council members? who are in the minority)\, one of whom is advocating for firing staff\, including the Climate Action Coordinator (whom we share with the Town of San Anselmo)\, reducing the Town budget by 30% and eliminating Climate and DEI initiatives in Town.  Marin IJ article. \nFor more information:  https://fairfax4civility.org/
URL:https://350marin.org/event/march-16-23-30-from-11-1230-sunday-protests-for-climate-dei-and-democracy-2/
ATTACH;FMTTYPE=image/jpeg:https://350marin.org/wp-content/uploads/2025/03/20250309_111704.jpg
END:VEVENT
END:VCALENDAR