BEGIN:VCALENDAR
VERSION:2.0
PRODID:-//350 Marin - ECPv5.14.2.1//NONSGML v1.0//EN
CALSCALE:GREGORIAN
METHOD:PUBLISH
X-WR-CALNAME:350 Marin
X-ORIGINAL-URL:https://350marin.org
X-WR-CALDESC:Events for 350 Marin
BEGIN:VTIMEZONE
TZID:America/Los_Angeles
BEGIN:DAYLIGHT
TZOFFSETFROM:-0800
TZOFFSETTO:-0700
TZNAME:PDT
DTSTART:20220313T100000
END:DAYLIGHT
BEGIN:STANDARD
TZOFFSETFROM:-0700
TZOFFSETTO:-0800
TZNAME:PST
DTSTART:20221106T090000
END:STANDARD
END:VTIMEZONE
BEGIN:VEVENT
DTSTART;TZID=America/Los_Angeles:20220411T170000
DTEND;TZID=America/Los_Angeles:20220411T190000
DTSTAMP:20260421T113821
CREATED:20220310T003920Z
LAST-MODIFIED:20220310T003959Z
UID:26163-1649696400-1649703600@350marin.org
SUMMARY:Sit in on Our April 11th 350Marin Steering Committee Meeting!
DESCRIPTION:If you might be interested in becoming more active in 350 Marin\, sit in on our Steering Committee Zoom Meeting online at 5:00pm on the evening of Monday\, April 11th. Please RSVP below for a meeting link\, or contact us at  info@350marin.org for more information. \n \nPost to 350BA
URL:https://350marin.org/event/scmeeting-04-11-22/
LOCATION:online\, CA\, 94945\, United States
CATEGORIES:featured,scmeeting
ATTACH;FMTTYPE=image/png:https://350marin.org/wp-content/uploads/2017/03/F8-PNG-NWB-small.png
END:VEVENT
END:VCALENDAR