BEGIN:VCALENDAR
VERSION:2.0
PRODID:-//350 Marin - ECPv5.14.2.1//NONSGML v1.0//EN
CALSCALE:GREGORIAN
METHOD:PUBLISH
X-WR-CALNAME:350 Marin
X-ORIGINAL-URL:https://350marin.org
X-WR-CALDESC:Events for 350 Marin
BEGIN:VTIMEZONE
TZID:America/Los_Angeles
BEGIN:DAYLIGHT
TZOFFSETFROM:-0800
TZOFFSETTO:-0700
TZNAME:PDT
DTSTART:20190310T100000
END:DAYLIGHT
BEGIN:STANDARD
TZOFFSETFROM:-0700
TZOFFSETTO:-0800
TZNAME:PST
DTSTART:20191103T090000
END:STANDARD
END:VTIMEZONE
BEGIN:VEVENT
DTSTART;TZID=America/Los_Angeles:20190303T183000
DTEND;TZID=America/Los_Angeles:20190303T183000
DTSTAMP:20260424T035347
CREATED:20190217T025827Z
LAST-MODIFIED:20190228T173134Z
UID:23775-1551637800-1551637800@350marin.org
SUMMARY:Waves of Resistance:  Art & Music Benefit to Stop Line 3
DESCRIPTION:Hip hop meets cumbia meets live art in this talent-rich benefit to support resistance to Line 3.  Don’t miss out on this all WOMXN of color line-up\, including some of the Bay Area’s finest\, with exclusive designs and live screen printing. \nWaves of Resistance is a benefit for the indigenous-led grassroots resistance to the construction of the Line 3 pipeline that would pass through ancestral Ojibwe and Dakota lands (currrently known as Minnesota).  For a year now\, these water protectors have been exposing and directly confronting Enbridge\, whose sure-to-leak pipeline threatens the land of the 12\,000 lakes\, the place where one-fifth of the world’s fresh water lies. \nThe grassroots have been holding down the line in defense of the water and the sacred\, and they need supplies\, support and solidarity.  More info on the grassroots resistance: @ Stop Line 3 (FB)\, stopline3pipeline (IG)\, and online at www.stopline3.org/ \nBuy your tickets ahead of time on EventBrite ($10-15) or at the door ($15-20). \nInfo about the DJs \, performers and artists\, and link for tickets is on Facebook.
URL:https://350marin.org/event/waves-of-resistance-art-music-benefit-to-stop-line-3/
LOCATION:The Uptown\, 1928 Telegraph Ave.\, Oakland\, CA\, 94612\, United States
CATEGORIES:community-event
ATTACH;FMTTYPE=image/jpeg:https://350marin.org/wp-content/uploads/2019/02/Jackie-Fawn-Women-Warriors.jpg
END:VEVENT
END:VCALENDAR