BEGIN:VCALENDAR
VERSION:2.0
PRODID:-//350 Marin - ECPv5.14.2.1//NONSGML v1.0//EN
CALSCALE:GREGORIAN
METHOD:PUBLISH
X-WR-CALNAME:350 Marin
X-ORIGINAL-URL:https://350marin.org
X-WR-CALDESC:Events for 350 Marin
BEGIN:VTIMEZONE
TZID:America/Los_Angeles
BEGIN:DAYLIGHT
TZOFFSETFROM:-0800
TZOFFSETTO:-0700
TZNAME:PDT
DTSTART:20190310T100000
END:DAYLIGHT
BEGIN:STANDARD
TZOFFSETFROM:-0700
TZOFFSETTO:-0800
TZNAME:PST
DTSTART:20191103T090000
END:STANDARD
END:VTIMEZONE
BEGIN:VEVENT
DTSTART;TZID=America/Los_Angeles:20191012T190000
DTEND;TZID=America/Los_Angeles:20191012T203000
DTSTAMP:20260423T163813
CREATED:20190913T215118Z
LAST-MODIFIED:20190917T165430Z
UID:24928-1570906800-1570912200@350marin.org
SUMMARY:Firestorm in Redding - Tales of Survival
DESCRIPTION:On Saturday\, October 12th\, from 7 – 8:30pm\, join us for another in Green Chautauqua’s Climate Change Speaker series as a panel of speakers discuss and give eyewitness accounts of the deadly firestorm tornado in Redding that generated 150 mph winds and killed 8 people\, spawned by the Carr fire that burned 229\,000 acres and destroyed 1600 structures.  The panel will include Fire Chief Jason Weber of the Marin County Fire Dept.\, Captain Dean Gilardi\, Accident Investigator\, Captain Mark Burbank\, Engine Captain\, and Lizzie Johnson\, SF Chronicle Reporter for”150 Minutes of Hell”.  Video and images courtesy of the San Francisco Chronicle. \nThe event will be held at the First Presbyterian Church\, 72 Kensington Road\, San Anselmo\, CA 94960.   A $10 donation is suggested in support of fire relief.   You can see and download the event flyer HERE. \n  \nPost to 350BA
URL:https://350marin.org/event/firestorm-in-redding/
LOCATION:First Presbyterian Church\, 72 Kensington Rd.\, San Anselmo \, CA\, 94960\, United States
CATEGORIES:community-event,featured
ATTACH;FMTTYPE=image/jpeg:https://350marin.org/wp-content/uploads/2019/09/firestorm.jpg
END:VEVENT
END:VCALENDAR