BEGIN:VCALENDAR
VERSION:2.0
PRODID:-//350 Marin - ECPv5.14.2.1//NONSGML v1.0//EN
CALSCALE:GREGORIAN
METHOD:PUBLISH
X-WR-CALNAME:350 Marin
X-ORIGINAL-URL:https://350marin.org
X-WR-CALDESC:Events for 350 Marin
BEGIN:VTIMEZONE
TZID:America/Los_Angeles
BEGIN:DAYLIGHT
TZOFFSETFROM:-0800
TZOFFSETTO:-0700
TZNAME:PDT
DTSTART:20200308T100000
END:DAYLIGHT
BEGIN:STANDARD
TZOFFSETFROM:-0700
TZOFFSETTO:-0800
TZNAME:PST
DTSTART:20201101T090000
END:STANDARD
END:VTIMEZONE
BEGIN:VEVENT
DTSTART;TZID=America/Los_Angeles:20200228T150000
DTEND;TZID=America/Los_Angeles:20200228T170000
DTSTAMP:20260423T101543
CREATED:20200211T174217Z
LAST-MODIFIED:20200307T192425Z
UID:25170-1582902000-1582909200@350marin.org
SUMMARY:Stop Funding Climate Chaos: Greenbrae Rally and Protest!
DESCRIPTION:Join 350Marin\, the Sunrise Movement\, the Sierra Club Marin Group and Sustainable Marin on February 28th from 3-5pm for a rally and march in San Anselmo.  We’re going to tell Chase\, Bank of America\, Citi and Wells Fargo to end their massive money pipeline supporting fossil fuel extraction!  Help us let them know that we’re done with them putting their profit line over the survival of our world year after year!    These banks\, which many of us use or have used\, are a key source of financing for continuing fossil fuel use expansion and disruption of the global ecology.  JP Morgan Chase\, for example\, funded more than twice the dollar amount of oil\, gas & coal development worldwide than Exxon did in 2018! \n\n\nWe’ll meet at Creek Park in San Anselmo at 3pm\, at Sir Francis Drake and Center Blvd to rally.  Speakers will include the Sunrise Movement\, and a 350Marin spokesperson on how we can move money out of the fossil fuel banks and investments. Barbara Clifton Zarate will speak on the climate crisis and indigenous rights\, and give us an update on Keystone pipeline battles. Chance Cutrano from the Sierra Club on banning one-use plastics\, we’ll hear Marilyn Price on the Climate Emergency Declaration campaign – and the Freedom Singers will sing! At 3:40\, we’ll march to protest in front of Chase\, Wells Fargo and Bank of America\, then gather at the Hub intersection on Sir Francis Drake to rally and leaflet.\n\nDownload the event flier HERE\, or by clicking on its image to the right.  RSVP with the form at the bottom of this page.  We look forward to seeing you in San Anselmo!\n\n\n  \n\n\n  \n\n\n \nPost to 350BA
URL:https://350marin.org/event/2-28-stop-climate-chaos/
LOCATION:Creek Park\, Creek Park\, Sir Francis Drake Blvd. & Center Blvd.\, San Anselmo\, CA\, United States
CATEGORIES:action,featured
ATTACH;FMTTYPE=image/png:https://350marin.org/wp-content/uploads/2020/02/Stop-funding-climate-chaos-landscape.png
END:VEVENT
END:VCALENDAR