BEGIN:VCALENDAR
VERSION:2.0
PRODID:-//350 Marin - ECPv5.14.2.1//NONSGML v1.0//EN
CALSCALE:GREGORIAN
METHOD:PUBLISH
X-WR-CALNAME:350 Marin
X-ORIGINAL-URL:https://350marin.org
X-WR-CALDESC:Events for 350 Marin
BEGIN:VTIMEZONE
TZID:America/Los_Angeles
BEGIN:DAYLIGHT
TZOFFSETFROM:-0800
TZOFFSETTO:-0700
TZNAME:PDT
DTSTART:20200308T100000
END:DAYLIGHT
BEGIN:STANDARD
TZOFFSETFROM:-0700
TZOFFSETTO:-0800
TZNAME:PST
DTSTART:20201101T090000
END:STANDARD
END:VTIMEZONE
BEGIN:VEVENT
DTSTART;TZID=America/Los_Angeles:20200926T100000
DTEND;TZID=America/Los_Angeles:20200926T120000
DTSTAMP:20260422T232439
CREATED:20200907T213443Z
LAST-MODIFIED:20200909T000823Z
UID:25649-1601114400-1601121600@350marin.org
SUMMARY:Join the Global Climate Action Shoestrike\, September 26th!
DESCRIPTION:The #NovatoShoeStrike is expanded now to ALL of MARIN.\nSaturday\, September 26\, from 10am-12noon \nShoe strikes are being held worldwide organized by various Climate Groups on September 26th to raise awareness of the need for Climate Justice and to demand that elected officials at every level of government take immediate action to address the Climate Emergency and the social and economic impacts of Climate Change and the COVID-19 pandemic. These two unprecedented crises require unprecedented action to protect our citizens and our planet. The “shoe strike” is a COVID-19 safe demonstration without the need for a large in-person gathering. \nIt will be a hybrid action\, with both a physical presence at Novato City Hall\,( 901 Sherman Ave\, Novato\, CA 94945)\, and an online event.  Here are various ways you can participate: \n\n\nDrop off shoes at Novato City Hall on September 26 between 10 – 12noon. Your shoes will be included in the final action tally\, including a comprehensive photo.\nTake a photo of your shoes at a location of your choice\, with or without a small sign\, and share it via your own social media. Tag #BayAreaShoeStrike so we can track it.\nTake a photo of your shoes at a location of your choice\, with or without a small sign\, and share it with greennovato@gmail.com\, so that it can be shared during the live broadcast and on a curated page at greennovatocom.\nJoin the live broadcast to comment via Youtube live chat here\, at https://tinyurl.com/bayareashoestrike\, and share photos\, ask questions of speakers\, and more.\nAll or some combination of all these options.\n\n\nClimate Action Marin is hosted by 350Marin.org and GreenNovato.com\, sponsored by Sustainable Mill Valley. For more Information contact: greennovato.com or 350Marin.org \n\n \nPost to 350BA
URL:https://350marin.org/event/join-the-global-climate-action-shoestrike-september-26th/
LOCATION:Novato City Hall\, 901 Sherman Ave. \, Novato\, CA\, United States
CATEGORIES:action,featured
ATTACH;FMTTYPE=image/png:https://350marin.org/wp-content/uploads/2020/09/Novato-shoestrike2.-e1599514676629.png
END:VEVENT
END:VCALENDAR