BEGIN:VCALENDAR
VERSION:2.0
PRODID:-//350 Marin - ECPv5.14.2.1//NONSGML v1.0//EN
CALSCALE:GREGORIAN
METHOD:PUBLISH
X-WR-CALNAME:350 Marin
X-ORIGINAL-URL:https://350marin.org
X-WR-CALDESC:Events for 350 Marin
BEGIN:VTIMEZONE
TZID:America/Los_Angeles
BEGIN:DAYLIGHT
TZOFFSETFROM:-0800
TZOFFSETTO:-0700
TZNAME:PDT
DTSTART:20200308T100000
END:DAYLIGHT
BEGIN:STANDARD
TZOFFSETFROM:-0700
TZOFFSETTO:-0800
TZNAME:PST
DTSTART:20201101T090000
END:STANDARD
END:VTIMEZONE
BEGIN:VEVENT
DTSTART;TZID=America/Los_Angeles:20201019T190000
DTEND;TZID=America/Los_Angeles:20201019T203000
DTSTAMP:20260422T214420
CREATED:20201010T001257Z
LAST-MODIFIED:20201010T023913Z
UID:25671-1603134000-1603139400@350marin.org
SUMMARY:Beyond 2020 - Making the Green New Deal Real
DESCRIPTION:Photo: Charles Edward Miller – Sunrise Movement Rally\, Chicago\, 2019 License CC Share-Alike 2.0 \nCome join 350Marin for our next open-ended community discussion on Oct. 19th\, 7 – 8:30PM.  Our kick-off topic this month will focus on the full spectrum of possibilities of how the world might change after November 3rd\, and what we can do to take advantage of whatever the outcome may be to accelerate action on the climate crisis.  Should activism become radical if Trump wins?  If a Blue Wave sweeps DC and puts Dems in control of the White House and Congress\, should the filibuster be ended and the Supreme Court ‘packed’ to clear the way for the major changes the Green New Deal and climate adaptation will require?  All are welcome – come help us imagine how we can turn our smokey\, COVID-invested\, recessionary world into one that’s green\, blue-skied\, just\, and powered by sunshine! \nWe hope to see you online. All are welcome!  Please RSVP below to get the link to attend: \n \nPost to 350BA
URL:https://350marin.org/event/beyond-2020/
LOCATION:online\, CA\, 94945\, United States
CATEGORIES:community-event,featured
ATTACH;FMTTYPE=image/jpeg:https://350marin.org/wp-content/uploads/2020/10/Chicago_Sunrise_Movement_GND-10.jpg
END:VEVENT
END:VCALENDAR