BEGIN:VCALENDAR
VERSION:2.0
PRODID:-//350 Marin - ECPv5.14.2.1//NONSGML v1.0//EN
CALSCALE:GREGORIAN
METHOD:PUBLISH
X-WR-CALNAME:350 Marin
X-ORIGINAL-URL:https://350marin.org
X-WR-CALDESC:Events for 350 Marin
BEGIN:VTIMEZONE
TZID:America/Los_Angeles
BEGIN:DAYLIGHT
TZOFFSETFROM:-0800
TZOFFSETTO:-0700
TZNAME:PDT
DTSTART:20200308T100000
END:DAYLIGHT
BEGIN:STANDARD
TZOFFSETFROM:-0700
TZOFFSETTO:-0800
TZNAME:PST
DTSTART:20201101T090000
END:STANDARD
END:VTIMEZONE
BEGIN:VEVENT
DTSTART;TZID=America/Los_Angeles:20201124T190000
DTEND;TZID=America/Los_Angeles:20201124T201500
DTSTAMP:20260422T201815
CREATED:20201117T222720Z
LAST-MODIFIED:20201120T210136Z
UID:25701-1606244400-1606248900@350marin.org
SUMMARY:The Denier-in-Chief Era is Over! Where Now on Climate?
DESCRIPTION:Anti-Trump (icon) By Lorie Shaull\, US (cc) Creative Commons\, modified\, Background by Tumisu\, Pixabay free license \nAmerica has succeeded in evicting Trump\, the world’s leading climate denier\, from the Oval Office.   And yet\, to this point in the election process\, the country has denied the Democrats the powerful mandate it seems to need to take bold action on climate.  Without control of the Senate\, it will be tough for Democrats to pursue an aggressive Green New Deal that can help us avert climate disaster\, advance social justice and revive our COVID-slammed economy.   350.org co-founder Bill McKibben has suggested we may need to focus more on the important steps that can be taken regionally and locally if action in Washington ends up staying gridlocked.   Others are suggesting that Biden may have extraordinary executive powers that\, at least to a degree\, can end-run stalling by a Republican Senate at the fehttps://www.vox.com/21549521/joe-biden-transition-climate-change-senate-runoffderal level if Democrats don’t win the runoffs in Georgia. \nJoin us for another 350Marin open-ended community discussion on Nov. 24th\, 7 – 8:15PM as we ponder what’s next for the climate movement in the post-Trump era.   All are welcome!  Let’s think together about how to best celebrate this crucial 2020 election win by building on its momentum to create a thriving\, climate-stable future. \nWe hope to see you online! Please RSVP below to get the link to attend: \n \nPost to 350BA
URL:https://350marin.org/event/where-now-on-climate/
LOCATION:online\, CA\, 94945\, United States
CATEGORIES:community-event,featured
ATTACH;FMTTYPE=image/jpeg:https://350marin.org/wp-content/uploads/2020/11/no-trump-climate.jpg
END:VEVENT
END:VCALENDAR