BEGIN:VCALENDAR
VERSION:2.0
PRODID:-//350 Marin - ECPv5.14.2.1//NONSGML v1.0//EN
CALSCALE:GREGORIAN
METHOD:PUBLISH
X-WR-CALNAME:350 Marin
X-ORIGINAL-URL:https://350marin.org
X-WR-CALDESC:Events for 350 Marin
BEGIN:VTIMEZONE
TZID:America/Los_Angeles
BEGIN:DAYLIGHT
TZOFFSETFROM:-0800
TZOFFSETTO:-0700
TZNAME:PDT
DTSTART:20210314T100000
END:DAYLIGHT
BEGIN:STANDARD
TZOFFSETFROM:-0700
TZOFFSETTO:-0800
TZNAME:PST
DTSTART:20211107T090000
END:STANDARD
END:VTIMEZONE
BEGIN:VEVENT
DTSTART;TZID=America/Los_Angeles:20210220T130000
DTEND;TZID=America/Los_Angeles:20210220T150000
DTSTAMP:20260422T152952
CREATED:20210217T030828Z
LAST-MODIFIED:20210217T032427Z
UID:25794-1613826000-1613833200@350marin.org
SUMMARY:Join the "NO COSTCO MEGA-GAS" March\, Saturday\, Feb. 20th!
DESCRIPTION:Come join us on Sat. Feb. 20th from 1 – 3 pm at the Rowland Blvd. Park and Ride Lot in Novato (at the Vintage Oaks Mall exit of 101) for a socially distanced march and rally against the proposed Costco Mega-Gas Station!  You can see and download the protest event flyer by clicking here.  Click on the image at the right to see a video of citizens talking about why it’s important.  Read 350Marin’s statement on the proposed Costco Mega Gas Station in Novato here.   Tell the Novato Planning Commission and City Council: No Costco Mega Gas Station in Novato. Tell Costco: Go Fossil Fuel Free\, there is no Planet B.   Stop building new mega gas stations in Novato\, San Rafael\, Bay Area\, California or anywhere! \nPlease sign the petition to the Novato City Council to reject the station here.  Plus\, join us Saturday if you can\, and RSVP below! \n\n \nPost to 350BA
URL:https://350marin.org/event/no-costco-gas/
LOCATION:Rowland Blvd. Park and Ride\, Rowland Blvd Park & Ride Lot\, Novato\, CA\, 94945\, United States
CATEGORIES:action,featured
ATTACH;FMTTYPE=image/jpeg:https://350marin.org/wp-content/uploads/2021/02/Costco-Mega-Gas-Station-Flyer-e1613531423968.jpg
END:VEVENT
END:VCALENDAR