BEGIN:VCALENDAR
VERSION:2.0
PRODID:-//350 Marin - ECPv5.14.2.1//NONSGML v1.0//EN
CALSCALE:GREGORIAN
METHOD:PUBLISH
X-WR-CALNAME:350 Marin
X-ORIGINAL-URL:https://350marin.org
X-WR-CALDESC:Events for 350 Marin
BEGIN:VTIMEZONE
TZID:America/Los_Angeles
BEGIN:DAYLIGHT
TZOFFSETFROM:-0800
TZOFFSETTO:-0700
TZNAME:PDT
DTSTART:20210314T100000
END:DAYLIGHT
BEGIN:STANDARD
TZOFFSETFROM:-0700
TZOFFSETTO:-0800
TZNAME:PST
DTSTART:20211107T090000
END:STANDARD
END:VTIMEZONE
BEGIN:VEVENT
DTSTART;TZID=America/Los_Angeles:20210602T093000
DTEND;TZID=America/Los_Angeles:20210602T130000
DTSTAMP:20260422T093135
CREATED:20210511T200320Z
LAST-MODIFIED:20210512T011850Z
UID:25880-1622626200-1622638800@350marin.org
SUMMARY:Support The Crucial 6/2 Bay Area Air District Vote for Community Health!
DESCRIPTION: Chevron Richmond Refinery fire and flaring  Photo: Nick Fullerton\, CC license 2.0 \n\nShouldn’t oil refineries in the Bay Area provide the same regulatory health protection to us from chronic particulate pollution damage and death that refineries in Texas give their populations?   We think so.  And yet\, right now\, Big Bay Area Oil money may be persuading our Air District not to provide this basic protection. Don’t let it happen!!! \nParticulate matter (PM) is the deadliest air pollutant in the Bay Area. On June 2nd\, the Bay Area Air Quality Management District (BAAQMD) Board will finally vote on the “Cat Cracker Rule.” This regulation would require refineries to install equipment to reduce PM emissions by 70% from their “Fluidized Catalytic Cracking Units\,” the largest source at East Bay refineries. \n\nSign this petition in support of adopting Rule 6-5 today!\nWho would this regulation protect? \nThe whole region will breathe cleaner air\, especially over a million residents of the East Bay. Those who live under the plume of these refinery emissions are disproportionately Black\, Brown and Asian Americans.  According to Air District estimates\, particulate matter pollution kills 3\,000 Bay Area residents every year and in communities like Richmond\, is responsible for some of the highest rates of childhood asthma in the state and a host of other diseases. Learn more about the devastating health effects of PM and why this regulation is desperately needed here. \nBig Oil fights back.  \nThe Western States Petroleum Association (WSPA) and the two refineries affected by this rule\, Chevron and PBF (formerly Shell)\, are lobbying heavily to avoid spending their money on a health-protecting upgrade to benefit their neighbors. The industry is strongly opposed to installing the best available technology\, “wet gas scrubbing\,”  identical to that already in use at the majority of refineries around the US\, including at Valero refinery in Benicia. \nPlease take action NOW:\n\nSign this petition to the Air District Board of Directors – to end this environmental injustice\, by adopting the strongest standard to protect our communities from deadly PM asap!\nMarin County’s representative on the BAAQMD Board of Directors is Supervisor Katie Rice.   One of the most effective things you can do right now is to write Katie Rice at krice@marincounty.org\, and ask her to support the strongest possible rules restricting particulate emissions on June 2nd and support the same particulate scrubbers required around the country! See the sample letter here.\nAttend the virtual Board meeting on June 2 – RSVP here for meeting details. Board Members need to hear from thousands of their constituents (like you) that we insist they pass the strongest available regulation to help address this environmental injustice.\n\n350 Bay Area leads this work at the Air District and this rule is one of our highest priorities. The Air District’s Advisory Council own scientists’ recommendation could not have been clearer. “There is no safe level of PM and the District should move as quickly as possible to take maximum action within its authority to protect health by reducing PM\, especially in areas with elevated exposures.”  \n\nThanks for taking action\, \nThe 350 Bay Area Clean Air Team \n\n\n\nPost to 350BA
URL:https://350marin.org/event/airdistrictpmvote/
LOCATION:online\, CA\, 94945\, United States
CATEGORIES:community-event,featured
ATTACH;FMTTYPE=image/jpeg:https://350marin.org/wp-content/uploads/2017/06/chevron-free-use-1-e1497882876474.jpg
END:VEVENT
END:VCALENDAR