BEGIN:VCALENDAR
VERSION:2.0
PRODID:-//350 Marin - ECPv5.14.2.1//NONSGML v1.0//EN
CALSCALE:GREGORIAN
METHOD:PUBLISH
X-WR-CALNAME:350 Marin
X-ORIGINAL-URL:https://350marin.org
X-WR-CALDESC:Events for 350 Marin
BEGIN:VTIMEZONE
TZID:America/Los_Angeles
BEGIN:DAYLIGHT
TZOFFSETFROM:-0800
TZOFFSETTO:-0700
TZNAME:PDT
DTSTART:20210314T100000
END:DAYLIGHT
BEGIN:STANDARD
TZOFFSETFROM:-0700
TZOFFSETTO:-0800
TZNAME:PST
DTSTART:20211107T090000
END:STANDARD
END:VTIMEZONE
BEGIN:VEVENT
DTSTART;TZID=America/Los_Angeles:20211029T153000
DTEND;TZID=America/Los_Angeles:20211029T163000
DTSTAMP:20260422T030904
CREATED:20211012T001904Z
LAST-MODIFIED:20211012T151810Z
UID:26014-1635521400-1635525000@350marin.org
SUMMARY:October 29th Day of Action for a Fossil Free Future!
DESCRIPTION:Tell the Big Banks to Stop Funding Climate Chaos!  Ask Your Neighbors to Move Their Money!\nWe know that the world is burning\, and big banks are throwing fuel on the fire.  Frontline communities\, scientists\, and youth are urgently calling to keep fossil fuels in the ground. Yet big banks  are choosing to fund and enable massive new fossil fuel projects like the Line 3 pipeline in Minnesota\, with no signs of slowing down.\n\nJoin us at 3:30 pm for an hour long protest at Citibank\, 666 Third Street near 101\, in San Rafael!  Some signs are provided or bring your own! \nGiven the ongoing public health risks of COVID – while this event is outdoors\, we still encourage attendees to be mindful of social distancing and wearing of masks. If you feel sick – please stay home. \nYesterday\, 135 people were arrested for chaining themselves to the White House. Taking action as part of the People V Fossil Fuels week of action\, their demand of President Biden was simple: stop fossil fuel projects and declare a climate emergency. \n\nThis is vital work. President Biden has massive power to stop and shut down fossil fuel projects ― power that he has so far refused to use. If you are in the DC area\, we encourage you to join People vs. Fossil Fuels on the streets every day this week. \nIt’s also vital to remember that the White House is not the only global power center enabling the climate crisis. Without the backing of major banks\, such as Citibank\, fossil fuel companies wouldn’t be able to afford to build pipelines like Line 3 and DAPL in the first place. \nThat’s why we are swamping the office of Citibank CEO Jane Fraser with calls\, demanding that Citi stop funding the fossil fuel industry. Can you make a call? We have a call tool and a call script for you to use. All you need to do is pick up the phone and dial. \n\nPlease RSVP below to let us know you’re coming Friday\, 10/29.  Thanks! \n \nPost to 350BA
URL:https://350marin.org/event/october-29th-day-of-action-for-a-fossil-free-future/
LOCATION:Citibank SR\, 666 Third St.\, San Rafael\, CA\, 94901\, United States
CATEGORIES:action,featured
ATTACH;FMTTYPE=image/png:https://350marin.org/wp-content/uploads/2021/10/10-29-FOSSIL-FREE-FUT.png
END:VEVENT
END:VCALENDAR