BEGIN:VCALENDAR
VERSION:2.0
PRODID:-//350 Marin - ECPv5.14.2.1//NONSGML v1.0//EN
CALSCALE:GREGORIAN
METHOD:PUBLISH
X-WR-CALNAME:350 Marin
X-ORIGINAL-URL:https://350marin.org
X-WR-CALDESC:Events for 350 Marin
BEGIN:VTIMEZONE
TZID:America/Los_Angeles
BEGIN:DAYLIGHT
TZOFFSETFROM:-0800
TZOFFSETTO:-0700
TZNAME:PDT
DTSTART:20240310T100000
END:DAYLIGHT
BEGIN:STANDARD
TZOFFSETFROM:-0700
TZOFFSETTO:-0800
TZNAME:PST
DTSTART:20241103T090000
END:STANDARD
END:VTIMEZONE
BEGIN:VEVENT
DTSTART;VALUE=DATE:20240608
DTEND;VALUE=DATE:20240610
DTSTAMP:20260420T001655
CREATED:20240604T020410Z
LAST-MODIFIED:20240604T020410Z
UID:27792-1717804800-1717977599@350marin.org
SUMMARY:Fairfax Festival & Ecofest
DESCRIPTION:Catch 350Marin in the Fairfax Parade at 10 am Saturday June 8th! \nThe Parade kicks off at the Fairfax theater and makes its way through downtown Fairfax. It officially starts at the Fairfax Theater\, turns on to Bolinas Road\, and ends on Park Road. It’s usually about an hour and a half long. \nBroadway and Bolinas Roads along the parade route are closed to all cars from about 9:45 until the parade ends so please plan accordingly! \nThe Fairfax Festival is a weekend long event celebrating art\, music\, sustainability and community. There will be local music at three stages\, shopping for crafts and flea market treasures\, fresh\, wholesome food\, beer\, organic wine tasting\, entertainment for kids\, and the opportunity to engage with social and environmental issues at the Ecofest. \n 
URL:https://350marin.org/event/fairfax-festival-ecofest/
LOCATION:Town of Fairfax\, Fairfax\, CA\, 94930\, United States
END:VEVENT
END:VCALENDAR