BEGIN:VCALENDAR
VERSION:2.0
PRODID:-//350 Marin - ECPv5.14.2.1//NONSGML v1.0//EN
CALSCALE:GREGORIAN
METHOD:PUBLISH
X-WR-CALNAME:350 Marin
X-ORIGINAL-URL:https://350marin.org
X-WR-CALDESC:Events for 350 Marin
BEGIN:VTIMEZONE
TZID:America/Los_Angeles
BEGIN:DAYLIGHT
TZOFFSETFROM:-0800
TZOFFSETTO:-0700
TZNAME:PDT
DTSTART:20240310T100000
END:DAYLIGHT
BEGIN:STANDARD
TZOFFSETFROM:-0700
TZOFFSETTO:-0800
TZNAME:PST
DTSTART:20241103T090000
END:STANDARD
END:VTIMEZONE
BEGIN:VEVENT
DTSTART;TZID=America/Los_Angeles:20240713T190000
DTEND;TZID=America/Los_Angeles:20240713T203000
DTSTAMP:20260419T224543
CREATED:20240705T194059Z
LAST-MODIFIED:20240705T194059Z
UID:27870-1720897200-1720902600@350marin.org
SUMMARY:350Marin joins Marin City's monthly “Come to the Table”
DESCRIPTION:Join us to hear about Environmental Hazards in Marin City and the Associated Public Health Impacts. An event moderated by Terrie Green\, with speakers: \n\nYouth members of Marin City Climate Resilience and Health Justice Organization\nDr. Cesunica Ivey\, Ph.D.\, UC Berkeley\nDr. Maya Carrasquillo\, Ph. D\, UC Berkeley\n\nLearn more on their website.
URL:https://350marin.org/event/350marin-joins-marin-citys-monthly-come-to-the-table/
ATTACH;FMTTYPE=image/jpeg:https://350marin.org/wp-content/uploads/2024/07/https___cdn.evbuc_.com_images_794883239_1021939679803_1_original.jpg
END:VEVENT
END:VCALENDAR