BEGIN:VCALENDAR
VERSION:2.0
PRODID:-//350 Marin - ECPv5.14.2.1//NONSGML v1.0//EN
CALSCALE:GREGORIAN
METHOD:PUBLISH
X-WR-CALNAME:350 Marin
X-ORIGINAL-URL:https://350marin.org
X-WR-CALDESC:Events for 350 Marin
BEGIN:VTIMEZONE
TZID:America/Los_Angeles
BEGIN:DAYLIGHT
TZOFFSETFROM:-0800
TZOFFSETTO:-0700
TZNAME:PDT
DTSTART:20240310T100000
END:DAYLIGHT
BEGIN:STANDARD
TZOFFSETFROM:-0700
TZOFFSETTO:-0800
TZNAME:PST
DTSTART:20241103T090000
END:STANDARD
END:VTIMEZONE
BEGIN:VEVENT
DTSTART;TZID=America/Los_Angeles:20240714T133000
DTEND;TZID=America/Los_Angeles:20240714T160000
DTSTAMP:20260420T002343
CREATED:20240705T194758Z
LAST-MODIFIED:20240705T194758Z
UID:27873-1720963800-1720972800@350marin.org
SUMMARY:350 Bay Area's Summer Volunteer Picnic
DESCRIPTION:Join us for our Summer Volunteer Picnic on July 14th at 1:30 pm!\nRSVP: https://partiful.com/e/xG3q7yy1LOBtlhVaX6BD \nJoin us for a fun and informal gathering and have a chance to spendtime with the incredible volunteers and team members that make our 350 Bay Area community amazing! \nThis event will be a Potluck Picnic (so bring your favorite food/drink to share!) and will involve games\, music\, and generally a great time. This is an opportunity to enjoy and celebrate the work that we’ve done and the community we’ve built together\, as well as what’s sure to be a beautiful summers day! \nGetting there: Snow Park is a three block walk from 19th Street Bart (about 6 min) and is close to many bus stops. There is also street parking and lot parking near by – we encourage you to take public transit\, bike\, or carpool when possible! \nOther things to bring: Hats\, sunglasses\, sunscreen\, picnic blanket or chair\, games.
URL:https://350marin.org/event/350-bay-areas-summer-volunteer-picnic/
ATTACH;FMTTYPE=image/png:https://350marin.org/wp-content/uploads/2024/07/Summer-Picnic-Graphic3-768x994-1.png
END:VEVENT
END:VCALENDAR