BEGIN:VCALENDAR
VERSION:2.0
PRODID:-//350 Marin - ECPv5.14.2.1//NONSGML v1.0//EN
CALSCALE:GREGORIAN
METHOD:PUBLISH
X-WR-CALNAME:350 Marin
X-ORIGINAL-URL:https://350marin.org
X-WR-CALDESC:Events for 350 Marin
BEGIN:VTIMEZONE
TZID:America/Los_Angeles
BEGIN:DAYLIGHT
TZOFFSETFROM:-0800
TZOFFSETTO:-0700
TZNAME:PDT
DTSTART:20260308T100000
END:DAYLIGHT
BEGIN:STANDARD
TZOFFSETFROM:-0700
TZOFFSETTO:-0800
TZNAME:PST
DTSTART:20261101T090000
END:STANDARD
END:VTIMEZONE
BEGIN:VEVENT
DTSTART;TZID=America/Los_Angeles:20260414T180000
DTEND;TZID=America/Los_Angeles:20260414T193000
DTSTAMP:20260419T054957
CREATED:20260305T191057Z
LAST-MODIFIED:20260305T192121Z
UID:28570-1776189600-1776195000@350marin.org
SUMMARY:Sit in on Our April 14th 350Marin Leadership Team Meeting!
DESCRIPTION:If you might be interested in becoming more active in 350 Marin\, or consider joining our Steering Committee\, come sit in on our Steering Committee Zoom Meeting on Tuesday\, April 14th at 6:00pm. \nPlease RSVP below for a meeting link\, or contact us at info@350marin.org for more information.
URL:https://350marin.org/event/sit-in-on-our-april-14th-350marin-leadership-team-meeting-2/
LOCATION:online\, CA\, 94945\, United States
CATEGORIES:featured,scmeeting
ATTACH;FMTTYPE=image/png:https://350marin.org/wp-content/uploads/2017/03/F8-PNG-NWB-small.png
END:VEVENT
BEGIN:VEVENT
DTSTART;TZID=America/Los_Angeles:20260419T140000
DTEND;TZID=America/Los_Angeles:20260419T140000
DTSTAMP:20260419T054957
CREATED:20260305T195328Z
LAST-MODIFIED:20260319T054732Z
UID:28590-1776607200-1776607200@350marin.org
SUMMARY:Rally to Stop the Costco Mega Gas Station
DESCRIPTION:Stand with us to oppose the construction of a massive 28-pump gas station at the Novato Costco. This project threatens our local wetlands and contradicts our climate goals\, so let’s show up in force at the Rowland Blvd. Park and Ride meeting point to demand a fossil-free future for Marin and protect our sensitive ecosystems from unnecessary expansion.
URL:https://350marin.org/event/protect-novato-no-costco-mega-gas-station-rally/
LOCATION:Rowland Blvd. Park and Ride\, Rowland Blvd Park & Ride Lot\, Novato\, CA\, 94945\, United States
END:VEVENT
END:VCALENDAR