BEGIN:VCALENDAR
VERSION:2.0
PRODID:-//350 Marin - ECPv5.14.2.1//NONSGML v1.0//EN
CALSCALE:GREGORIAN
METHOD:PUBLISH
X-WR-CALNAME:350 Marin
X-ORIGINAL-URL:https://350marin.org
X-WR-CALDESC:Events for 350 Marin
BEGIN:VTIMEZONE
TZID:America/Los_Angeles
BEGIN:DAYLIGHT
TZOFFSETFROM:-0800
TZOFFSETTO:-0700
TZNAME:PDT
DTSTART:20210314T100000
END:DAYLIGHT
BEGIN:STANDARD
TZOFFSETFROM:-0700
TZOFFSETTO:-0800
TZNAME:PST
DTSTART:20211107T090000
END:STANDARD
END:VTIMEZONE
BEGIN:VEVENT
DTSTART;TZID=America/Los_Angeles:20210309T180000
DTEND;TZID=America/Los_Angeles:20210309T220000
DTSTAMP:20260422T085646
CREATED:20210308T155147Z
LAST-MODIFIED:20210309T234312Z
UID:25828-1615312800-1615327200@350marin.org
SUMMARY:Tuesday\, March 9th\, Tell Novato City Council: "NO COSTCO MEGA-GAS Station"!
DESCRIPTION:As you may know\, on March 9\, Novato City Council will hear an application from Costco to build a 28-pump gas station at Vintage Oaks in Novato.  This gas station is unneeded and ecologically damaging\, and counter to the Novato City Council’s recent Climate Emergency declaration that it will prioritize addressing our climate crisis in all future planning.  You can read 350Marin’s detailed statement on why we oppose the gas station here. \nIt’s likely that only strong public opposition to Costco’s plan before the Council can stop this plan from going forward at this point.  If possible\, join the Novato Council zoom meeting tomorrow and voice your opposition.  Here are the full range of options that you can choose to do one or all of to help stop this unwise and damaging project from being approved. Note: you do not have be a Novato resident to comment on this as many in Marin shop at Vintage Oaks or are Costco members: \nOption #1:  Written Comment Deadline Tuesday 3pm:  Leave an “e comment” on the Novato City website or  send  an”email” to novatocouncil@novato.org\nInstructions for e-comment: Click https://www.novato.org/government/city-council/agendas-minutes Then just click on the e-comment button.  It will take you to the agenda items for this meeting.  Then go to the second page under agenda item I.1) Costco Fuel Facility\, – you will find a “comment” button on the lower right side you can click on. You could also comment on the next item J.1 as it is about spending $500\,000 of city tax revenue on the street changes to make it easier for Costco.\n\nOption #2:  Make phone calls to or leave a voice message for the City Council Members\n\n\nCouncil Members: \nMayor Pat Eklund  peklund@novato.org   (415) 883-9116 \nMayor Pro Tem Eric Lucan elucan@novato.org (415) 272-3265 \nCouncilmember Susan Wernick swernick@novato.org  (415) 302-9514 \nCouncilmember Amy Peele apeele@novato.org  (415) 328-0275 \nCouncilmember Denise Athas dathas@novato.org (415) 246-2959   \n\n\nand\n  \nOption 3: Join the Teleconference Tuesday  evening City Council Meeting 6pm: (by phone or zoom)\nhttps://www.novato.org/government/city-council/agendas-minutes\nIt is likely the item re: the gas station will not come until after 7:00 and you can join late (we expect a lot of comments) and still participate.\n\nInstructions: \nThere are two opportunities to speak at the meeting for up to 3 minutes\, unless the council sets a shorter time due to a large number of commenters.  The first is during the initial ” Public commenting time” at the beginning.   This time can only be used for general comments\, not specific items on the agenda like the approval of the gas station for which there will be a comment opportunity later.  However\, you could make a general statement that the council needs to keep their explicit promise in their recent Climate Emergency declaration to address the climate crisis in all future planning\, at this meeting and every meeting.   There will also be a chance to speak on the issue specifically when the item I.1.) Costco Fuel Facility comes up on the agenda (speak up for up to 2 minutes time).\n\n\n\nWhen the Mayor calls for public comment on the item on which you wish to speak\, use the “Raise Hand” feature by clicking on the hand icon at the bottom of your screen to notify the host you would like to speak. The host will unmute speakers in turn.\nVia Telephone:  Join the meeting via telephone using the meeting information above or found on the agenda. When the Mayor calls for public comment on the item on which you wish to speak\, press *9 to activate the “Raise Hand” feature to notify the host that you wish to speak. The host will unmute speakers in turn.\n\n\nPlease do what you can to help us stop this bad plan!   We hope to see you there.\n\nThank you!\n350Marin\n \nPost to 350BA
URL:https://350marin.org/event/novato-no-mega-gas-3-9-21/
LOCATION:online\, CA\, 94945\, United States
CATEGORIES:action,featured
ATTACH;FMTTYPE=image/jpeg:https://350marin.org/wp-content/uploads/2021/03/gas-station-planned-here.jpg
END:VEVENT
END:VCALENDAR