BEGIN:VCALENDAR
VERSION:2.0
PRODID:-//350 Marin - ECPv5.14.2.1//NONSGML v1.0//EN
CALSCALE:GREGORIAN
METHOD:PUBLISH
X-WR-CALNAME:350 Marin
X-ORIGINAL-URL:https://350marin.org
X-WR-CALDESC:Events for 350 Marin
BEGIN:VTIMEZONE
TZID:America/Los_Angeles
BEGIN:DAYLIGHT
TZOFFSETFROM:-0800
TZOFFSETTO:-0700
TZNAME:PDT
DTSTART:20210314T100000
END:DAYLIGHT
BEGIN:STANDARD
TZOFFSETFROM:-0700
TZOFFSETTO:-0800
TZNAME:PST
DTSTART:20211107T090000
END:STANDARD
END:VTIMEZONE
BEGIN:VEVENT
DTSTART;TZID=America/Los_Angeles:20210331T183000
DTEND;TZID=America/Los_Angeles:20210331T193000
DTSTAMP:20260422T070111
CREATED:20210316T032056Z
LAST-MODIFIED:20210316T032305Z
UID:25848-1617215400-1617219000@350marin.org
SUMMARY:350 Conversation -  - Let’s Talk About Reducing (Plastic) Waste!
DESCRIPTION:Thousands of plastic bottles crushed\, and bundled for recycle  \nIt’s March\, 2021.  Let’s talk about reducing waste\, especially plastic waste!  Join us on Wednesday\, March 31st\, from 6:30-7:30pm\, for the discussion.  Plastic Waste is not our fault\, yet we are led to believe we must solve the burden of the packaging that comes with everything we buy. Fossil fuels make plastic. Plastic is a new way to get rid of fossil fuels at a profit. It is very difficult to recycle and the recycling system is overburdened. Join us in discussing the plastic waste and how it is affecting your life – what the world would be like without it and how to get there. \nWe’d love to hear what you have to say.  Click here to find out more\, and to RSVP.  All are welcome! \n\n \nPost to 350BA
URL:https://350marin.org/event/350-conversation-lets-talk-about-reducing-plastic-waste/
LOCATION:online\, CA\, 94945\, United States
CATEGORIES:community-event,featured
ATTACH;FMTTYPE=image/jpeg:https://350marin.org/wp-content/uploads/2021/03/plastic-recycle-scaled.jpg
END:VEVENT
END:VCALENDAR