BEGIN:VCALENDAR
VERSION:2.0
PRODID:-//350 Marin - ECPv5.14.2.1//NONSGML v1.0//EN
CALSCALE:GREGORIAN
METHOD:PUBLISH
X-WR-CALNAME:350 Marin
X-ORIGINAL-URL:https://350marin.org
X-WR-CALDESC:Events for 350 Marin
BEGIN:VTIMEZONE
TZID:America/Los_Angeles
BEGIN:DAYLIGHT
TZOFFSETFROM:-0800
TZOFFSETTO:-0700
TZNAME:PDT
DTSTART:20210314T100000
END:DAYLIGHT
BEGIN:STANDARD
TZOFFSETFROM:-0700
TZOFFSETTO:-0800
TZNAME:PST
DTSTART:20211107T090000
END:STANDARD
END:VTIMEZONE
BEGIN:VEVENT
DTSTART;TZID=America/Los_Angeles:20210519T170000
DTEND;TZID=America/Los_Angeles:20210519T181500
DTSTAMP:20260422T051412
CREATED:20210408T214252Z
LAST-MODIFIED:20210419T191844Z
UID:25854-1621443600-1621448100@350marin.org
SUMMARY:Building Momentum for a Green Future
DESCRIPTION:Hermosa Wave by ‘watch4u’  CC license 2.0 \n\n\nThe climate-focused Democratic administration in Washington and years of work by climate activists are creating a critical mass that has the potential to make major changes to our society and\, at last\, lay the foundation for a more hopeful\, green future.  Join us on May 19th online from 5 to 6:15pm to hear from and join in a lively discussion with 350Marin’s Divest~Invest committee members on topics at the core of the changes now underway:\n  \n\n\n\n\n\nDivest~ Invest Strategies: Redirecting our resources for the sake of human survival\n\nThe Public Banking Movement: Helping communities use their own resources to thrive and become more resilient\n\n\nNew Economic Models and System – Some businesses are starting to talk about transitioning to a “Circular Economy’.  What is it?\n\n\nNational and local Climate Initiatives\n\n\nExactly what is in the Biden infrastructure plan and what are its prospects for passage?\n\n\n\n\nDon’t miss this interesting overview and discussion of where the climate movement has been\, and where it may be heading now\, as it begins to get real traction.  All are welcome!  RSVP below for more information and a link to join the zoom conversation. \n\n \nPost to 350BA
URL:https://350marin.org/event/building-a-green-future/
LOCATION:online\, CA\, 94945\, United States
CATEGORIES:community-event,featured
ATTACH;FMTTYPE=image/jpeg:https://350marin.org/wp-content/uploads/2021/04/green-wave-e1617917462188.jpg
END:VEVENT
END:VCALENDAR