BEGIN:VCALENDAR
VERSION:2.0
PRODID:-//350 Marin - ECPv5.14.2.1//NONSGML v1.0//EN
CALSCALE:GREGORIAN
METHOD:PUBLISH
X-WR-CALNAME:350 Marin
X-ORIGINAL-URL:https://350marin.org
X-WR-CALDESC:Events for 350 Marin
BEGIN:VTIMEZONE
TZID:America/Los_Angeles
BEGIN:DAYLIGHT
TZOFFSETFROM:-0800
TZOFFSETTO:-0700
TZNAME:PDT
DTSTART:20210314T100000
END:DAYLIGHT
BEGIN:STANDARD
TZOFFSETFROM:-0700
TZOFFSETTO:-0800
TZNAME:PST
DTSTART:20211107T090000
END:STANDARD
END:VTIMEZONE
BEGIN:VEVENT
DTSTART;TZID=America/Los_Angeles:20210622T183000
DTEND;TZID=America/Los_Angeles:20210622T193000
DTSTAMP:20260422T033650
CREATED:20210615T165655Z
LAST-MODIFIED:20210616T023750Z
UID:25920-1624386600-1624390200@350marin.org
SUMMARY:Let's Talk About the Politics of Climate Change Today!
DESCRIPTION:Image by Jürgen Jester from Pixabay \n\nIt’s June\, 2021. Let’s talk about the politics of climate change today! The Biden Administration has been struggling to move effective Green New Deal proposals forward\, and\, in the last two weeks\, Exxon\, Chevron\, and Shell have been dealt powerful blows to their business models by their own shareholders and by a Dutch court. As an activist organization\, we have been very focused on divestment and legislature\, and in many respects\, we have been successful.    Our aspirational 350 parts per million (ppm) limit to CO2 in the atmosphere has now been buried by the relentless climb in global carbon pollution to the 420 ppm figure we just reached – yet there is a 2030 plan in California to shape the use of the land and water to help sequester carbon and reverse the trend.  Everyone knows we’re now at a crucial point in the struggle to stop climate disruption.  What are the most effective things we can do now to turn the tide?   Can you think of new campaigns that 350Marin can build and promote? \nWe’d love to hear what you have to say.  RSVP below for the link to join this online conversation and to be updated with any further information.  All are welcome! \n\n\n \nPost to 350BA
URL:https://350marin.org/event/lets-talk-about-the-politics-of-climate-change-today/
LOCATION:online\, CA\, 94945\, United States
CATEGORIES:community-event,featured
ATTACH;FMTTYPE=image/png:https://350marin.org/wp-content/uploads/2021/06/orangish-earth-e1623775767833.png
END:VEVENT
END:VCALENDAR