BEGIN:VCALENDAR
VERSION:2.0
PRODID:-//350 Marin - ECPv5.14.2.1//NONSGML v1.0//EN
CALSCALE:GREGORIAN
METHOD:PUBLISH
X-WR-CALNAME:350 Marin
X-ORIGINAL-URL:https://350marin.org
X-WR-CALDESC:Events for 350 Marin
BEGIN:VTIMEZONE
TZID:America/Los_Angeles
BEGIN:DAYLIGHT
TZOFFSETFROM:-0800
TZOFFSETTO:-0700
TZNAME:PDT
DTSTART:20210314T100000
END:DAYLIGHT
BEGIN:STANDARD
TZOFFSETFROM:-0700
TZOFFSETTO:-0800
TZNAME:PST
DTSTART:20211107T090000
END:STANDARD
END:VTIMEZONE
BEGIN:VEVENT
DTSTART;TZID=America/Los_Angeles:20210924T153000
DTEND;TZID=America/Los_Angeles:20210924T170000
DTSTAMP:20260421T224148
CREATED:20210912T203008Z
LAST-MODIFIED:20210913T133207Z
UID:25992-1632497400-1632502800@350marin.org
SUMMARY:RISE UP: Join the Global Climate Strike in Novato!
DESCRIPTION:Join 350Marin\, the Sunrise Marin Hub and Sierra Club Marin Group for the Global Climate Strike on September 24th in Novato!  See the details in the flyer below\, then RSVP in the form following it if you’re interested in coming.  We look forward to striking with you against the unfolding climate crisis! \n \n \nPost to 350BA
URL:https://350marin.org/event/global-climate-strike-in-novato/
LOCATION:Rowland Blvd. Park and Ride\, Rowland Blvd Park & Ride Lot\, Novato\, CA\, 94945\, United States
CATEGORIES:action,featured
ATTACH;FMTTYPE=image/png:https://350marin.org/wp-content/uploads/2021/09/Climate-stirke-9-24-21.png
END:VEVENT
END:VCALENDAR