BEGIN:VCALENDAR
VERSION:2.0
PRODID:-//350 Marin - ECPv5.14.2.1//NONSGML v1.0//EN
CALSCALE:GREGORIAN
METHOD:PUBLISH
X-WR-CALNAME:350 Marin
X-ORIGINAL-URL:https://350marin.org
X-WR-CALDESC:Events for 350 Marin
BEGIN:VTIMEZONE
TZID:America/Los_Angeles
BEGIN:DAYLIGHT
TZOFFSETFROM:-0800
TZOFFSETTO:-0700
TZNAME:PDT
DTSTART:20220313T100000
END:DAYLIGHT
BEGIN:STANDARD
TZOFFSETFROM:-0700
TZOFFSETTO:-0800
TZNAME:PST
DTSTART:20221106T090000
END:STANDARD
END:VTIMEZONE
BEGIN:VEVENT
DTSTART;TZID=America/Los_Angeles:20220424T130000
DTEND;TZID=America/Los_Angeles:20220424T170000
DTSTAMP:20260421T113638
CREATED:20220210T195000Z
LAST-MODIFIED:20220415T232008Z
UID:26123-1650805200-1650819600@350marin.org
SUMMARY:Earth 2050: Create a Better World!
DESCRIPTION:Join 350Marin and 350 Bay Area at Earth 2050! \nHow can we create a better world by 2050? What will it look like? \nCome see art exhibits\, hear inspiring talks\, play games and enjoy good music at Earth 2050\, our free Earth Day community event. \nYou will learn about actions we can take to build a more just and sustainable world\, such as: use clean energy\, eat sustainably\, live lightly and build healthy communities. \nFeatured musicians include Maria Muldaur and the Red Hot Bluesiana Band\, as well as Matt Jaffe\, Reed Fromer\, the Shady Ladies\, and the Freedom Singers. Participating artists include Tom Killion\, Tess Felix\, young creators and many more – and you can even create your own art in this beautiful setting.   \nBring family\, friends and neighbors for this fun outdoors celebration of the many ways we can change the world.  \nRSVP HERE: https://www.eventbrite.com/e/earth-2050-create-a-better-world-tickets-221607091777
URL:https://350marin.org/event/earth2050/
LOCATION:Mill Valley Community & Recreation Center\, 180 Camino Alto\, Mill Valley\, CA\, 94941\, United States
CATEGORIES:community-event,featured
ATTACH;FMTTYPE=image/png:https://350marin.org/wp-content/uploads/2022/02/Earth-2050.png
END:VEVENT
END:VCALENDAR