BEGIN:VCALENDAR
VERSION:2.0
PRODID:-//350 Marin - ECPv5.14.2.1//NONSGML v1.0//EN
CALSCALE:GREGORIAN
METHOD:PUBLISH
X-WR-CALNAME:350 Marin
X-ORIGINAL-URL:https://350marin.org
X-WR-CALDESC:Events for 350 Marin
BEGIN:VTIMEZONE
TZID:America/Los_Angeles
BEGIN:DAYLIGHT
TZOFFSETFROM:-0800
TZOFFSETTO:-0700
TZNAME:PDT
DTSTART:20220313T100000
END:DAYLIGHT
BEGIN:STANDARD
TZOFFSETFROM:-0700
TZOFFSETTO:-0800
TZNAME:PST
DTSTART:20221106T090000
END:STANDARD
END:VTIMEZONE
BEGIN:VEVENT
DTSTART;TZID=America/Los_Angeles:20220923T160000
DTEND;TZID=America/Los_Angeles:20220923T170000
DTSTAMP:20260421T035656
CREATED:20220920T031552Z
LAST-MODIFIED:20230208T200924Z
UID:26252-1663948800-1663952400@350marin.org
SUMMARY:Join 350Marin\, Greta and Fridays for Future for the Climate Strike!
DESCRIPTION:Bring your people power\, a sign if you have one\, (we have some for you if you don’t) and join us in front of Mt. Tam High School at the corner of Miller Ave & Camino Alto in Mill Valley\, 4-5pm on Friday! Fridays for Future is the youth-led global climate action group started by Greta Thunberg and fellow students in 2018. They’ve called for global climate strike for climate reparations and climate justice on this Friday\, Sept. 23rd.  Join 350Marin\, the Redwoods and all Marin climate activists as we support the strike this Friday\, taking action with Greta’s group in Stockholm and hundreds of other Friday 9/23 strike and protest actions around the world.  Please RSVP below to let us know you’re coming.\n \nPost to 350BA
URL:https://350marin.org/event/fff-strike-9-23-22/
LOCATION:Mt. Tam High School\, Miller Ave. & Camino Alto\, Mill Valley\, CA\, 94941\, United States
CATEGORIES:action,featured
ATTACH;FMTTYPE=image/png:https://350marin.org/wp-content/uploads/2022/09/FFF_logo_x960-e1663646103851.png
END:VEVENT
END:VCALENDAR